BEGIN:VCALENDAR
VERSION:2.0
PRODID:-//wp-events-plugin.com//7.2.3.1//EN
TZID:Europe/Warsaw
X-WR-TIMEZONE:Europe/Warsaw
BEGIN:VEVENT
UID:106@ictcluster.pl
DTSTART;TZID=Europe/Warsaw;VALUE=DATE:20250915
DTEND;TZID=Europe/Warsaw;VALUE=DATE:20250916
DTSTAMP:20250829T111104Z
URL:https://ictcluster.pl/events/it-laczy-pokolenia-join-it-in-lodz/
SUMMARY:IT łączy pokolenia - Join IT in Łódź
DESCRIPTION:Konferencja prasowa inaugurująca tegoroczną edycję kampanii 
 "Join IT in Łódź - IT łączy pokolenia". W 2025 roku jako motyw przewo
 dni kampanii wybraliśmy hasło "IT łączy pokolenia" ponieważ wierzymy\
 , że różnorodność wiekowa to klucz do budowania silnych i kreatywnych
  zespołów. Chcemy pokazać\, jak różne pokolenia wzajemnie się inspir
 ują\, uczą od siebie. To nie kontrast\, lecz współpraca stanowi siłę
  nowoczesnych zespołów IT.\n\nPodczas wydarzenia poznacie tegorocznych b
 ohaterów\, przedstawicieli Uczestników Klastra:\n\n
ATTACH;FMTTYPE=image/jpeg:https://ictcluster.pl/wp-content/uploads/2025/05
 /Join-IT-in-Lodz-IT-laczy-pokolenia.png
CATEGORIES:Konferencje i targi
LOCATION:Co/walk Hub\, OFF Piotrkowska\, Roosevelta 10B\, Łódź\, Poland
X-APPLE-STRUCTURED-LOCATION;VALUE=URI;X-ADDRESS=OFF Piotrkowska\, Roosevelt
 a 10B\, Łódź\, Poland;X-APPLE-RADIUS=100;X-TITLE=Co/walk Hub:geo:0,0
END:VEVENT
BEGIN:VTIMEZONE
TZID:Europe/Warsaw
X-LIC-LOCATION:Europe/Warsaw
BEGIN:DAYLIGHT
DTSTART:20250330T030000
TZOFFSETFROM:+0100
TZOFFSETTO:+0200
TZNAME:CEST
END:DAYLIGHT
END:VTIMEZONE
END:VCALENDAR