BEGIN:VCALENDAR
VERSION:2.0
PRODID:-//wp-events-plugin.com//7.2.3.1//EN
TZID:Europe/Warsaw
X-WR-TIMEZONE:Europe/Warsaw
BEGIN:VEVENT
UID:116@ictcluster.pl
DTSTART;TZID=Europe/Warsaw:20251211T100000
DTEND;TZID=Europe/Warsaw:20251211T120000
DTSTAMP:20251127T125915Z
URL:https://ictcluster.pl/en/events/webinar-pip-vs-b2b/
SUMMARY:Webinar "PIP vs B2B"
DESCRIPTION:Zapraszamy Uczestników Klastra na szkolenia dotyczące ryzyka 
 przekwalifikowania umów B2B w umowy o pracę w kontekście planowanych zm
 ian do ustawy o Państwowej Inspekcji Pracy („PIP”) ze szczególnym uw
 zględnieniem branży IT.\n \nSzkolenie poprowadzi renomowana w zakresie 
 prawa pracy Kancelaria Raczkowski.\n\nJeśli chcesz wziąć udział w szko
 leniu zapraszamy do kontaktu z biurem Łódzkiego Klastra ICT.
ATTACH;FMTTYPE=image/jpeg:https://ictcluster.pl/wp-content/uploads/2025/11
 /109_raczkowskiict.jpg
END:VEVENT
BEGIN:VTIMEZONE
TZID:Europe/Warsaw
X-LIC-LOCATION:Europe/Warsaw
BEGIN:STANDARD
DTSTART:20251026T020000
TZOFFSETFROM:+0200
TZOFFSETTO:+0100
TZNAME:CET
END:STANDARD
END:VTIMEZONE
END:VCALENDAR