BEGIN:VCALENDAR
VERSION:2.0
PRODID:-//wp-events-plugin.com//7.2.3.1//EN
TZID:Europe/Warsaw
X-WR-TIMEZONE:Europe/Warsaw
BEGIN:VEVENT
UID:122@ictcluster.pl
DTSTART;TZID=Europe/Warsaw:20260317T090000
DTEND;TZID=Europe/Warsaw:20260317T170000
DTSTAMP:20260225T111557Z
URL:https://ictcluster.pl/en/events/szkolenie-podstawy-gen-ai-w-praktyce-i
 ii-edycja/
SUMMARY:Szkolenie "Podstawy Gen AI w praktyce" - III edycja
DESCRIPTION:📅 Termin: wtorek\, 17 marca 2026 r.\n📍 Miejsce: Sala 
 Senatu Politechniki Łódzkiej\, ul. Żeromskiego 114\n🅿 Dla uczestnik
 ów zapewniamy miejsca parkingowe\n\n \nProwadzący:\n\n 	\nKateryna Jast
 rebowa – Lead Data Scientist\, specjalizująca się w projektowaniu i w
 drażaniu rozwiązań AI\n\n 	\nBartosz Kopytek – Senior MLOps Engineer
 \, ekspert w obszarze skalowania i utrzymania systemów AI\n\n\nDla kogo j
 est to szkolenie?\n\n 	\nAnalityków\, inżynierów danych\, architektów
  rozwiązań oraz technical leadów wdrażających systemy AI.\n\n 	\nZesp
 ołów R&amp\;D i działów innowacji chcących prototypować i wdrażać 
 rozwiązania AI.\n\n 	\nWymagana jest znajomość Pythona na poziomie pods
 tawowym (praca ze strukturami danych\, funkcjami\, prostymi bibliotekami).
 \n\n\n
ATTACH;FMTTYPE=image/jpeg:https://ictcluster.pl/wp-content/uploads/2026/02
 /PODSTAWY-gen-ai-w-praktyce.png
CATEGORIES:Szkolenie
END:VEVENT
BEGIN:VTIMEZONE
TZID:Europe/Warsaw
X-LIC-LOCATION:Europe/Warsaw
BEGIN:STANDARD
DTSTART:20251026T020000
TZOFFSETFROM:+0200
TZOFFSETTO:+0100
TZNAME:CET
END:STANDARD
END:VTIMEZONE
END:VCALENDAR