BEGIN:VCALENDAR
VERSION:2.0
PRODID:-//wp-events-plugin.com//7.2.3.1//EN
TZID:Europe/Warsaw
X-WR-TIMEZONE:Europe/Warsaw
BEGIN:VEVENT
UID:124@ictcluster.pl
DTSTART;TZID=Europe/Warsaw;VALUE=DATE:20261117
DTEND;TZID=Europe/Warsaw;VALUE=DATE:20261120
DTSTAMP:20260327T165753Z
URL:https://ictcluster.pl/en/events/lodzkie-dni-informatyki-2026/
SUMMARY:Łódzkie Dni Informatyki 2026
DESCRIPTION:Jubileuszowa\, X edycja Łódzkich Dni Informatyki. Więcej szc
 zegółów wkrótce.
ATTACH;FMTTYPE=image/jpeg:https://ictcluster.pl/wp-content/uploads/2026/03
 /ldi-samo.png
CATEGORIES:Konferencje i targi
END:VEVENT
BEGIN:VTIMEZONE
TZID:Europe/Warsaw
X-LIC-LOCATION:Europe/Warsaw
BEGIN:STANDARD
DTSTART:20261025T020000
TZOFFSETFROM:+0200
TZOFFSETTO:+0100
TZNAME:CET
END:STANDARD
END:VTIMEZONE
END:VCALENDAR