BEGIN:VCALENDAR
VERSION:2.0
PRODID:-//wp-events-plugin.com//7.2.3.1//EN
TZID:Europe/Warsaw
X-WR-TIMEZONE:Europe/Warsaw
BEGIN:VEVENT
UID:86@ictcluster.pl
DTSTART;TZID=Europe/Warsaw:20250206T133000
DTEND;TZID=Europe/Warsaw:20250206T173000
DTSTAMP:20250203T133445Z
URL:https://ictcluster.pl/en/events/3582/
SUMMARY:rethink digital business mixer
DESCRIPTION:Łódź współpracą stoi! Łódzka Specjalna Strefa Ekonomicz
 na / Lodz Special Economic Zone organizuje pierwszy w tym roku rethink dig
 ital business mixer!\n\n📅 kiedy? 6 lutego 2025\n📌 gdzie? siedziba Ł
 SSE - ul. Tymienieckiego 22G (Łódź)\n⏰ o której? widzimy się od 13:
 30\n✅ jak się zarejestrować? https://bit.ly/40u0O4F (tylko do 3 lutego
 !)\n📢 czego się spodziewać? Dawki wiedzy o finansowaniu innowacji i w
 ielu ciekawych kontaktów - spodziewamy się ponad 200 uczestników\n\n
 💭Chcesz poznać Klaster podczas Wydarzenia? Napisz do nas 📧 wiadomo
 ść i umów się na spotkanie!\n\n🔴 Agenda wydarzenia 🔴\n13.30-14.1
 0: Rejestracja\n14.10-15.20: Rethink Digital - o finansowaniu innowacji\n1
 5.20-17.00: Rethink Business Mixer\n17.00-19.00: Networking\n\n💎 Partne
 rzy wydarzenia: British Polish Chamber of Commerce (BPCC)\, Polsko-niemiec
 ka Izba Przemysłowo-handlowa\, Scandinavian-Polish Chamber of Commerce ( 
 SPCC )\, Netherlands-Polish Chamber of Commerce\, Camera di Commercio e de
 ll'Industria Italiana in Polonia\, Business Centre Club Łódź\, Łódzka
  Izba Przemysłowo-Handlowa\, Pro Progressio.
ATTACH;FMTTYPE=image/jpeg:https://ictcluster.pl/wp-content/uploads/2025/01
 /rethink.jpeg
CATEGORIES:spotkania Partnerów Klastra
END:VEVENT
BEGIN:VTIMEZONE
TZID:Europe/Warsaw
X-LIC-LOCATION:Europe/Warsaw
BEGIN:STANDARD
DTSTART:20241027T020000
TZOFFSETFROM:+0200
TZOFFSETTO:+0100
TZNAME:CET
END:STANDARD
END:VTIMEZONE
END:VCALENDAR